BEGIN:VCALENDAR
VERSION:2.0
PRODID:-//Arapahoe Highlands - ECPv6.15.20//NONSGML v1.0//EN
CALSCALE:GREGORIAN
METHOD:PUBLISH
X-ORIGINAL-URL:https://arapahoehighlands.com
X-WR-CALDESC:Events for Arapahoe Highlands
REFRESH-INTERVAL;VALUE=DURATION:PT1H
X-Robots-Tag:noindex
X-PUBLISHED-TTL:PT1H
BEGIN:VTIMEZONE
TZID:America/Denver
BEGIN:DAYLIGHT
TZOFFSETFROM:-0700
TZOFFSETTO:-0600
TZNAME:MDT
DTSTART:20230312T090000
END:DAYLIGHT
BEGIN:STANDARD
TZOFFSETFROM:-0600
TZOFFSETTO:-0700
TZNAME:MST
DTSTART:20231105T080000
END:STANDARD
BEGIN:DAYLIGHT
TZOFFSETFROM:-0700
TZOFFSETTO:-0600
TZNAME:MDT
DTSTART:20240310T090000
END:DAYLIGHT
BEGIN:STANDARD
TZOFFSETFROM:-0600
TZOFFSETTO:-0700
TZNAME:MST
DTSTART:20241103T080000
END:STANDARD
BEGIN:DAYLIGHT
TZOFFSETFROM:-0700
TZOFFSETTO:-0600
TZNAME:MDT
DTSTART:20250309T090000
END:DAYLIGHT
BEGIN:STANDARD
TZOFFSETFROM:-0600
TZOFFSETTO:-0700
TZNAME:MST
DTSTART:20251102T080000
END:STANDARD
END:VTIMEZONE
BEGIN:VEVENT
DTSTART;TZID=America/Denver:20240605T180000
DTEND;TZID=America/Denver:20240605T200000
DTSTAMP:20260423T135617
CREATED:20240328T160045Z
LAST-MODIFIED:20240328T161056Z
UID:2296-1717610400-1717617600@arapahoehighlands.com
SUMMARY:Founder's Day BBQ
DESCRIPTION:Kickoff the Arapahoe Highlands Civic Association event season with a Founder’s Day BBQ! Join your friends and family in learning about the history of the neighborhood while indulging in good food and conversation. \n*Date and time are subject to change
URL:https://arapahoehighlands.com/events/2024-founders-day-bbq/
LOCATION:Lila Greave’s House (1720 E Jamison Pl)\, 1720 E Jamison Pl\, Centennial\, CO\, 80122\, United States
CATEGORIES:Founder's Day BBQ
END:VEVENT
END:VCALENDAR