BEGIN:VCALENDAR
VERSION:2.0
PRODID:-//Arapahoe Highlands - ECPv6.15.20//NONSGML v1.0//EN
CALSCALE:GREGORIAN
METHOD:PUBLISH
X-ORIGINAL-URL:https://arapahoehighlands.com
X-WR-CALDESC:Events for Arapahoe Highlands
REFRESH-INTERVAL;VALUE=DURATION:PT1H
X-Robots-Tag:noindex
X-PUBLISHED-TTL:PT1H
BEGIN:VTIMEZONE
TZID:America/Denver
BEGIN:DAYLIGHT
TZOFFSETFROM:-0700
TZOFFSETTO:-0600
TZNAME:MDT
DTSTART:20200308T090000
END:DAYLIGHT
BEGIN:STANDARD
TZOFFSETFROM:-0600
TZOFFSETTO:-0700
TZNAME:MST
DTSTART:20201101T080000
END:STANDARD
BEGIN:DAYLIGHT
TZOFFSETFROM:-0700
TZOFFSETTO:-0600
TZNAME:MDT
DTSTART:20210314T090000
END:DAYLIGHT
BEGIN:STANDARD
TZOFFSETFROM:-0600
TZOFFSETTO:-0700
TZNAME:MST
DTSTART:20211107T080000
END:STANDARD
BEGIN:DAYLIGHT
TZOFFSETFROM:-0700
TZOFFSETTO:-0600
TZNAME:MDT
DTSTART:20220313T090000
END:DAYLIGHT
BEGIN:STANDARD
TZOFFSETFROM:-0600
TZOFFSETTO:-0700
TZNAME:MST
DTSTART:20221106T080000
END:STANDARD
BEGIN:DAYLIGHT
TZOFFSETFROM:-0700
TZOFFSETTO:-0600
TZNAME:MDT
DTSTART:20230312T090000
END:DAYLIGHT
BEGIN:STANDARD
TZOFFSETFROM:-0600
TZOFFSETTO:-0700
TZNAME:MST
DTSTART:20231105T080000
END:STANDARD
BEGIN:DAYLIGHT
TZOFFSETFROM:-0700
TZOFFSETTO:-0600
TZNAME:MDT
DTSTART:20240310T090000
END:DAYLIGHT
BEGIN:STANDARD
TZOFFSETFROM:-0600
TZOFFSETTO:-0700
TZNAME:MST
DTSTART:20241103T080000
END:STANDARD
BEGIN:DAYLIGHT
TZOFFSETFROM:-0700
TZOFFSETTO:-0600
TZNAME:MDT
DTSTART:20250309T090000
END:DAYLIGHT
BEGIN:STANDARD
TZOFFSETFROM:-0600
TZOFFSETTO:-0700
TZNAME:MST
DTSTART:20251102T080000
END:STANDARD
BEGIN:DAYLIGHT
TZOFFSETFROM:-0700
TZOFFSETTO:-0600
TZNAME:MDT
DTSTART:20260308T090000
END:DAYLIGHT
BEGIN:STANDARD
TZOFFSETFROM:-0600
TZOFFSETTO:-0700
TZNAME:MST
DTSTART:20261101T080000
END:STANDARD
END:VTIMEZONE
BEGIN:VEVENT
DTSTART;TZID=America/Denver:20250729T190000
DTEND;TZID=America/Denver:20250729T200000
DTSTAMP:20260423T124214
CREATED:20250803T215820Z
LAST-MODIFIED:20250803T215820Z
UID:2472-1753815600-1753819200@arapahoehighlands.com
SUMMARY:July 2025 Meeting
DESCRIPTION:PLEASE JOIN THE AHCA BOARD MEETING \nJuly 29 at 7PM \n7647 S. WILLIAMS ST \nThe Board would love to see you there!
URL:https://arapahoehighlands.com/events/july-2025-meeting/
LOCATION:7647 S Williams St
CATEGORIES:Meetings
END:VEVENT
BEGIN:VEVENT
DTSTART;TZID=America/Denver:20231114T190000
DTEND;TZID=America/Denver:20231114T200000
DTSTAMP:20260423T124214
CREATED:20230201T203817Z
LAST-MODIFIED:20231013T154812Z
UID:1966-1699988400-1699992000@arapahoehighlands.com
SUMMARY:November 2023 Meeting
DESCRIPTION:Neighborhood Meeting\n						\n						\n						\n					\n				\n					\n				\n				\n				\n			\n				\n				\n			\n				\n				\n				\n				\n				\n				\n				\n				\n				\n				\n				\n				\n				\n				\n				\n				\n				\n				\n					\n					\n						1719 E Jamison Place\n						\n					\n				\n			\n				\n				\n				\n				\n				Please join us for a neighborhood meeting to discuss our upcoming events! \nAHCA Discussion Topics: (subject to change) \n\n\n\nFinalize holiday events: Santa Visit and Christmas Party\n\n\n\n			\n				\n				\n				\n				\n				\nWhen:Tuesday\, November 14 at 7:00 p.m. \nWhere:Susie Lewis’s House1719 E Jamison Place
URL:https://arapahoehighlands.com/events/november-2023-meeting/
LOCATION:Susie Lewis’s House\, 1719 E Jamison Place
CATEGORIES:Meetings
END:VEVENT
BEGIN:VEVENT
DTSTART;TZID=America/Denver:20230919T190000
DTEND;TZID=America/Denver:20230919T200000
DTSTAMP:20260423T124214
CREATED:20230201T203244Z
LAST-MODIFIED:20230201T203941Z
UID:1961-1695150000-1695153600@arapahoehighlands.com
SUMMARY:September 2023 Meeting
DESCRIPTION:Neighborhood Meeting\n						\n						\n						\n					\n				\n					\n				\n				\n				\n			\n				\n				\n			\n				\n				\n				\n				\n				\n				\n				\n				\n				\n				\n				\n				\n				\n				\n				\n				\n				\n				\n					\n					\n						Location TBD\n						\n					\n				\n			\n				\n				\n				\n				\n				Please join us for a neighborhood meeting to discuss our upcoming events! \nAHCA Discussion Topics: (subject to change) \n\n\n\nFinalize Fall Festival \nPlan Santa Visit and Christmas Party\n\n\n\n			\n				\n				\n				\n				\n				 \nWhen:Tuesday\, September 19 at 7:00 p.m. \nWhere:Location TBD
URL:https://arapahoehighlands.com/events/september-2023-meeting/
CATEGORIES:Meetings
END:VEVENT
BEGIN:VEVENT
DTSTART;TZID=America/Denver:20230718T190000
DTEND;TZID=America/Denver:20230718T200000
DTSTAMP:20260423T124214
CREATED:20230201T201923Z
LAST-MODIFIED:20230710T214647Z
UID:1955-1689706800-1689710400@arapahoehighlands.com
SUMMARY:July 2023 Meeting
DESCRIPTION:Neighborhood Meeting\n						\n						\n						\n					\n				\n					\n				\n				\n				\n			\n				\n				\n			\n				\n				\n				\n				\n				\n				\n				\n				\n				\n				\n				\n				\n				\n				\n				\n				\n				\n				\n					\n					\n						Location TBD\n						\n					\n				\n			\n				\n				\n				\n				\n				Please join us at the home of AHCA Co-President Alex Wolf for a neighborhood meeting to discuss our upcoming events. \nAHCA Discussion Topics: (subject to change) \n\nPlan National Night Out ice cream social and Fall Festival\n\nPermit needed for block party with street closures\n\n\n\n			\n				\n				\n				\n				\n				 \nWhen:Tuesday\, July 18 at 7:00 p.m. \nWhere:7657 S Williams Street
URL:https://arapahoehighlands.com/events/july-2023-meeting/
LOCATION:Alex Wolf’s House\, 7657 S Williams St\, CO
CATEGORIES:Meetings
END:VEVENT
BEGIN:VEVENT
DTSTART;TZID=America/Denver:20230516T190000
DTEND;TZID=America/Denver:20230516T200000
DTSTAMP:20260423T124214
CREATED:20230201T195708Z
LAST-MODIFIED:20230516T032918Z
UID:1950-1684263600-1684267200@arapahoehighlands.com
SUMMARY:May 2023 Meeting
DESCRIPTION:Neighborhood Meeting\n						\n						\n						\n					\n				\n					\n				\n				\n				\n			\n				\n				\n			\n				\n				\n				\n				\n				\n				\n				\n				\n				\n				\n				\n				\n				\n				\n				\n				\n				\n				\n					\n					\n						Gilpin Court\n						\n					\n				\n			\n				\n				\n				\n				\n				Please note that this meeting location has changed. It will now be held in the Gilpin Court cul-de-sac. \nAHCA Discussion Topics: (subject to change) \n\nMembership Update\nCity Grants Update\n2023 Budget Discussion based on membership and grants updates\nFinalize planning for Dumpster Days\nBegin planning Summer Celebration: Fourth of July parade and Bob Stephens Memorial BBQ\, including necessary permits\n\n			\n				\n				\n				\n				\n				 \nWhen:Tuesday\, May 16 at 7:00 p.m. \nWhere:Gilpin Court cul-de-sac
URL:https://arapahoehighlands.com/events/may-2023-meeting/
LOCATION:Gilpin Court cul-de-sac
CATEGORIES:Meetings
END:VEVENT
BEGIN:VEVENT
DTSTART;TZID=America/Denver:20230321T190000
DTEND;TZID=America/Denver:20230321T200000
DTSTAMP:20260423T124214
CREATED:20230201T194641Z
LAST-MODIFIED:20230201T194745Z
UID:1943-1679425200-1679428800@arapahoehighlands.com
SUMMARY:March 2023 Meeting
DESCRIPTION:Neighborhood Meeting\n						\n						\n						\n					\n				\n					\n				\n				\n				\n			\n				\n				\n			\n				\n				\n				\n				\n				\n				\n				\n				\n				\n				\n				\n				\n				\n				\n				\n				\n				\n				\n					\n					\n						The Dillers' House\n						\n					\n				\n			\n			\n				\n				\n				\n				\n				\n				\n				\n				\n				\n				Please join us for a neighborhood meeting to discuss our upcoming events and AHCA membership. This meeting will be hosted at the home of Carl and Dorothea Diller. We look forward to seeing you! \nWhen: Tuesday\, March 21 at 7:00 p.m.Where: 1745 E Dry Creek Place
URL:https://arapahoehighlands.com/events/march-2023-meeting/
LOCATION:Carl and Dorothea Diller’s House\, 1745 E Dry Creek Pl\, CO
CATEGORIES:Meetings
END:VEVENT
BEGIN:VEVENT
DTSTART;TZID=America/Denver:20230131T190000
DTEND;TZID=America/Denver:20230131T200000
DTSTAMP:20260423T124214
CREATED:20230121T174046Z
LAST-MODIFIED:20230121T174120Z
UID:1903-1675191600-1675195200@arapahoehighlands.com
SUMMARY:January 2023 AHCA Meeting and Elections
DESCRIPTION:Neighborhood Meeting\n						\n						\n						\n					\n				\n					\n				\n				\n				\n			\n				\n				\n			\n				\n				\n				\n				\n				\n				\n				\n				\n				\n				\n				\n				\n				\n			\n				\n				\n				\n				\n				\n				\n				\n				\n				\n				\n					\n					\n						Hosted by Christy Jones\, AHCA Hospitality Co-Chair\n						Meeting Location: 1746 E Dry Creek Place \n					\n				\n			\n				\n				\n				\n				\n				Please join us on Tuesday\, January 31 at 7:00 p.m. for a neighborhood meeting and our annual elections. If you are interested in joining the Board or would like more information about AHCA\, please send an email to ahca.web@gmail.com. \n			\n			\n				\n				\n				\n				\n				\n			\n				\n				\n				\n				\n			\n				\n				\n				\n				\n				\n				\n				\n				\n				\n				\n				Board Election FAQs\nWhat does the AHCA Board do?\nThe Board meets every other month\, usually on the third Tuesday of the month\, to discuss local and neighborhood news\, address members’ concerns\, and plan social events. \nHow much time is involved?\nBoard members are expected to attend the AHCA bi-monthly meetings\, which usually last about an hour. There are also a few social events each year that Board members typically plan and attend. \nWhat does the Architectural Control Committee (ACC) do?\nThe ACC helps neighbors understand the requirements of our neighborhood covenants. Common examples are roofing\, painting\, and construction. It is a 3-person committee that does not have regular meetings; rather the ACC meets when needed\, most often when an official request is received.
URL:https://arapahoehighlands.com/events/january-2023-ahca-meeting-and-elections/
LOCATION:Christy and Larry Jones’ house\, 1746 E Dry Creek Place
CATEGORIES:Meetings
END:VEVENT
BEGIN:VEVENT
DTSTART;TZID=America/Denver:20221115T190000
DTEND;TZID=America/Denver:20221115T200000
DTSTAMP:20260423T124214
CREATED:20220125T045152Z
LAST-MODIFIED:20221108T211616Z
UID:1412-1668538800-1668542400@arapahoehighlands.com
SUMMARY:November 2022 Meeting
DESCRIPTION:Neighborhood Meeting\n						\n						\n						\n					\n				\n					\n				\n				\n				\n			\n				\n				\n			\n				\n				\n				\n				\n				\n				\n				\n				\n				\n				\n				\n				\n				\n				\n				\n				\n				\n				\n					\n					\n						Hosted at the Schell Residence\n						\n					\n				\n			\n			\n				\n				\n				\n				\n				\n				\n				\n				\n				\n				Please join us for a neighborhood meeting! We will be discussing our holiday events\, membership for 2023\, and plans for 2023. We would love to see you there. This meeting will be hosted at the home of Ed and Sandy Schell. \nWhen: Tuesday\, November 15 at 7:00 p.m.Where: 1677 E Jamison Place
URL:https://arapahoehighlands.com/events/november-2022-meeting/
LOCATION:Sandy and Ed Schell’s House\, 1677 E Jamison Place
CATEGORIES:Meetings
END:VEVENT
BEGIN:VEVENT
DTSTART;TZID=America/Denver:20220920T180000
DTEND;TZID=America/Denver:20220920T190000
DTSTAMP:20260423T124214
CREATED:20220125T043941Z
LAST-MODIFIED:20220902T032226Z
UID:1410-1663696800-1663700400@arapahoehighlands.com
SUMMARY:September 2022 Meeting
DESCRIPTION:Neighborhood Meeting\n						\n						\n						\n					\n				\n					\n				\n				\n				\n			\n				\n				\n			\n				\n				\n				\n				\n				\n				\n				\n				\n				\n				\n				\n				\n				\n				\n				\n				\n				\n				\n					\n					\n						Backyard Meeting\n						\n					\n				\n			\n			\n				\n				\n				\n				\n				\n				\n				\n				\n				\n				 Please join us for a neighborhood meeting to plan our upcoming fall festival! \nThis meeting will be held in the backyard at Megan and Dustin Johnson’s house. It will begin at 6 p.m. instead of our usual 7 p.m. meeting time. Please enter through the gate on the right side of the house. \nWhen: Tuesday\, September 20 at 6:00 p.m.Where: 1684 E Dry Creek Place\, backyard
URL:https://arapahoehighlands.com/events/september-2022-meeting/
LOCATION:Megan & Dustin Johnson’s House\, 1684 E Dry Creek Place\, CO
CATEGORIES:Meetings
END:VEVENT
BEGIN:VEVENT
DTSTART;TZID=America/Denver:20220621T180000
DTEND;TZID=America/Denver:20220621T200000
DTSTAMP:20260423T124214
CREATED:20220318T153606Z
LAST-MODIFIED:20220821T032921Z
UID:1467-1655834400-1655841600@arapahoehighlands.com
SUMMARY:Bob Stephens Memorial BBQ
DESCRIPTION:Neighborhood BBQ\n						And AHCA Meeting\n						\n						\n					\n				\n					\n				\n				\n				\n			\n				\n				\n			\n				\n				\n				\n				\n				\n				\n				\n				\n				\n				\n				\n				\n				\n				\n				\n				\n				\n				Join us on Tuesday\, June 21 around 6 p.m. for our annual Bob Stephens Memorial BBQ\, followed by a casual outdoor AHCA meeting. We are looking forward to seeing many friendly faces at this popular neighborhood event! Below are some photos from last year’s gathering. \n			\n			\n				\n				\n				\n				\n			\n				\n				\n				\n				\n				\n				\n				\n				\n				\n				\n				\n			\n			\n				\n				\n				\n				\n				\n				\n				\n				\n				\n				\n			\n			\n				\n				\n				\n				\n				\n				\n				\n				\n				\n				\n			\n			\n				\n				\n				\n				\n			\n				\n				\n				\n				\n				\n				\n				\n				\n				\n				\n				Important Details:\nThe BBQ will begin at 6pm in the cul de sac at Humboldt and Dry Creek Place. Smoked brisket\, pulled pork\, mac and cheese\, and non-alcoholic beverages will be provided. Bring your own side dish or dessert to share\, and bring your own lawn chair! Get comfortable\, enjoy good food\, and catch up with your neighbors. Please comment below to let us know if you plan to attend the meeting\, as well as what dish you plan to bring to the BBQ. \n			\n			\n				\n				\n				\n				\n			\n				\n				\n				\n				\n				\n				\n				\n				\n				\n				\n				Photos from 2022 BBQ Event:
URL:https://arapahoehighlands.com/events/2022-bob-stephens-memorial-bbq/
LOCATION:Humboldt and Dry Creek Place cul de sac
CATEGORIES:Meetings
ORGANIZER;CN="Sandy Schell%2C AHCA Treasurer":MAILTO:edsslw@ecentral.com
END:VEVENT
BEGIN:VEVENT
DTSTART;TZID=America/Denver:20220517T190000
DTEND;TZID=America/Denver:20220517T200000
DTSTAMP:20260423T124214
CREATED:20220125T041939Z
LAST-MODIFIED:20220506T030928Z
UID:1408-1652814000-1652817600@arapahoehighlands.com
SUMMARY:May 2022 Meeting
DESCRIPTION:Neighborhood Meeting\n						\n						\n						\n					\n				\n					\n				\n				\n				\n			\n				\n				\n			\n				\n				\n				\n				\n				\n				\n				\n				\n				\n				\n				\n				\n				\n				\n				\n				\n				\n				\n					\n					\n						In-Person Meeting\n						\n					\n				\n			\n				\n				\n				\n				\n				Please join us for a neighborhood meeting to discuss our upcoming events! PLUS: this month’s meeting will feature a special 15 minute presentation by an eco-friendly\, sustainability-focused company called Ridwell\, and a plastic bag collection for easy recycling! \nAbout Ridwell: Ridwell is a subscription service that helps people waste less by offering home pickups of items that can’t be placed in curbside recycling. Those items are then brought to local and regional partners for appropriate reuse and recycling. Some of the most common items Ridwell collects are plastic\, threads\, light bulbs\, and batteries. Here is an FAQ page that might help answer more questions! \nAHCA Discussion Topics: (subject to change) \n\nMembership Update\nCity Grants Update\nFollow-up on previous event organization directions (i.e. how to set up/run events our neighborhood has done in the past)\nFinalize planning for June events: Garage Sale\, Dumpster Days\, Bob Stephens Memorial BBQ\nBegin planning Fourth of July parade and picnic\n\n			\n				\n				\n				\n				\n				 \nWhen:Tuesday\, May 17 at 7:00 p.m. \nWhere:Sandy and Ed Schell’s house1677 E Jamison Place
URL:https://arapahoehighlands.com/events/may-2022-meeting/
LOCATION:Sandy and Ed Schell’s House\, 1677 E Jamison Place
CATEGORIES:Meetings
END:VEVENT
BEGIN:VEVENT
DTSTART;TZID=America/Denver:20220419T190000
DTEND;TZID=America/Denver:20220419T200000
DTSTAMP:20260423T124214
CREATED:20220316T033901Z
LAST-MODIFIED:20220425T000414Z
UID:1442-1650394800-1650398400@arapahoehighlands.com
SUMMARY:April 2022 Board Meeting
DESCRIPTION:Neighborhood Meeting\n						\n						\n						\n					\n				\n					\n				\n				\n				\n			\n				\n				\n			\n				\n				\n				\n				\n				\n				\n				\n				\n				\n				\n				\n				\n				\n				\n				\n				\n				\n				\n					\n					\n						In-Person Meeting\n						\n					\n				\n			\n				\n				\n				\n				\n				Please join us for a neighborhood meeting to discuss our upcoming events! \nDiscussion Topics: (subject to change) \n\nMembership Update\nCity Grants Update\nFollow-up on previous event organization directions (i.e. how to set up/run events our neighborhood has done in the past)\nBegin planning for June events: Garage Sale\, Dumpster Days\, Bob Stevens Memorial BBQ\n\n			\n				\n				\n				\n				\n				 \nWhen:Tuesday\, April 19 at 7:00 p.m. \nWhere:Carl and Dorothea Diller’s house1745 E Dry Creek Place
URL:https://arapahoehighlands.com/events/april-2022-board-meeting/
LOCATION:Carl and Dorothea Diller’s House\, 1745 E Dry Creek Pl\, CO
CATEGORIES:Meetings
END:VEVENT
BEGIN:VEVENT
DTSTART;TZID=America/Denver:20220315T190000
DTEND;TZID=America/Denver:20220315T200000
DTSTAMP:20260423T124214
CREATED:20220124T215551Z
LAST-MODIFIED:20220309T181739Z
UID:1395-1647370800-1647374400@arapahoehighlands.com
SUMMARY:March 2022 Meeting
DESCRIPTION:Neighborhood Meeting\n						\n						\n						\n					\n				\n					\n				\n				\n				\n			\n				\n				\n			\n				\n				\n				\n				\n				\n				\n				\n				\n				\n				\n				\n				\n				\n				\n				\n				\n				\n				\n					\n					\n						In-Person Meeting\n						\n					\n				\n			\n			\n				\n				\n				\n				\n				\n				\n				\n				\n				\n				 Please join us for a neighborhood meeting to discuss our upcoming events! This meeting will be hosted at the home of Hank and Reneen Salmans. We look forward to seeing our neighbors at our first in-person meeting in quite some time! \nWhen: Tuesday\, March 15 at 7:00 p.m.Where: 1697 E Jamison Place
URL:https://arapahoehighlands.com/events/march-2022/
LOCATION:Hank and Reneen Salmans’ House\, 1697 E Jamison Pl\, CO
CATEGORIES:Meetings
END:VEVENT
BEGIN:VEVENT
DTSTART;TZID=America/Denver:20220118T190000
DTEND;TZID=America/Denver:20220118T200000
DTSTAMP:20260423T124214
CREATED:20211213T034549Z
LAST-MODIFIED:20220115T025029Z
UID:1341-1642532400-1642536000@arapahoehighlands.com
SUMMARY:January 2022 Meeting and Elections
DESCRIPTION:Neighborhood Meeting\n						\n						\n						\n					\n				\n					\n				\n				\n				\n			\n				\n				\n			\n				\n				\n				\n				\n				\n				\n				\n				\n				\n				\n				\n				\n				\n				\n				\n				\n				\n				\n					\n					\n						Virtual Meeting\n						\n					\n				\n			\n			\n				\n				\n				\n				\n				\n				\n				\n				\n				\n				Please join us for a neighborhood meeting and our annual election. We have many positions to fill! Available Board positions include chairperson\, vice chairperson\, and secretary. If you are interested in joining the Board or would like more information about AHCA\, please send an email to ahca.web@gmail.com. \nWhen: Tuesday\, January 18 at 7:00 p.m.Where: Online via Zoom \n			\n				Click Here to Join the Zoom Meeting\n			\n				\n				\n				\n				\n				Meeting ID: 894 8618 4151Passcode: 841231 \n			\n			\n				\n				\n				\n				\n			\n				\n				\n				\n				\n				\n				\n				\n				\n				\n				\n				Board Election FAQs\nWhat does the AHCA Board do?\nThe Board meets every other month\, usually on the third Tuesday of the month\, to discuss local and neighborhood news\, address members’ concerns\, and plan social events. \nHow much time is involved?\nBoard members are expected to attend the AHCA bi-monthly meetings\, which usually last about an hour. There are also a few social events each year that Board members typically plan and attend. \nWhat does the Architectural Control Committee (ACC) do?\nThe ACC helps neighbors understand the requirements of our neighborhood covenants. Common examples are roofing\, painting\, and construction. It is a 3-person committee that does not have regular meetings; rather the ACC meets when needed\, most often when an official request is received.
URL:https://arapahoehighlands.com/events/january-2022-meeting-and-elections/
CATEGORIES:Meetings
END:VEVENT
BEGIN:VEVENT
DTSTART;TZID=America/Denver:20211214T190000
DTEND;TZID=America/Denver:20211214T200000
DTSTAMP:20260423T124214
CREATED:20211213T033622Z
LAST-MODIFIED:20211214T212500Z
UID:1328-1639508400-1639512000@arapahoehighlands.com
SUMMARY:December 2021 Meeting
DESCRIPTION:Neighborhood Meeting\n						\n						\n						\n					\n				\n					\n				\n				\n				\n			\n				\n				\n			\n				\n				\n				\n				\n				\n				\n				\n				\n				\n				\n				\n				\n				\n				\n				\n				\n				\n				\n					\n					\n						Virtual Meeting\n						\n					\n				\n			\n				Click Here to Join Meeting\n			\n			\n				\n				\n				\n				\n				\n				\n				\n				\n				\n				This month we are continuing our use of Zoom for virtual meetings. We have much to discuss\, including upcoming holiday festivities and elections. \nWhen: Tuesday\, December 14 at 7:00 p.m. \nMeeting ID: 827 0261 6149Passcode: ahca121421 \n			\n			\n				\n				\n				\n				\n			\n				\n				\n				\n				\n				\n				\n				\n				\n				\n				\n				Board Election FAQs\nWhat does the AHCA Board do?\nThe Board meets every other month\, usually on the third Tuesday of the month\, to discuss local and neighborhood news\, address members’ concerns\, and plan social events. \nHow much time is involved?\nBoard members are expected to attend the AHCA bi-monthly meetings\, which usually last about an hour. There are also a few social events each year that Board members typically plan and attend. \nWhat does the Architectural Control Committee (ACC) do?\nThe ACC helps neighbors understand the requirements of our neighborhood covenants. Common examples are roofing\, painting\, and construction. It is a 3-person committee that does not have regular meetings; rather the ACC meets when needed\, most often when an official request is received.
URL:https://arapahoehighlands.com/events/december-2021-meeting/
LOCATION:Virtual
CATEGORIES:Meetings
END:VEVENT
BEGIN:VEVENT
DTSTART;TZID=America/Denver:20211109T190000
DTEND;TZID=America/Denver:20211109T190000
DTSTAMP:20260423T124214
CREATED:20211103T203833Z
LAST-MODIFIED:20211103T204306Z
UID:1215-1636484400-1636484400@arapahoehighlands.com
SUMMARY:November 2021 AHCA Meeting
DESCRIPTION:Virtual Meeting\n						\n						\n						\n					\n				\n					\n				\n				\n				\n			\n				\n				\n			\n				\n				\n				\n				\n				\n				\n				\n				\n				\n				\n				\n				\n				\n				\n				\n				\n				\n				\n					\n					\n						Virtual Meeting\n						\n					\n				\n			\n			\n				\n				\n				\n				\n				\n				\n				\n				\n				\n				To join the meeting from your PC\, Mac\, Linux\, iOS or Android device\, click the button below: \n			\n				Join Meeting\n			\n				\n				\n				\n				\n				Note: For the best audio experience\, please use computer audio. \nMeeting ID: 863 8471 7657\nPasscode: SpUxZ0
URL:https://arapahoehighlands.com/events/november-2021-ahca-meeting/
LOCATION:Virtual
CATEGORIES:Meetings
END:VEVENT
BEGIN:VEVENT
DTSTART;TZID=America/Denver:20210817T180000
DTEND;TZID=America/Denver:20210817T200000
DTSTAMP:20260423T124214
CREATED:20210809T203632Z
LAST-MODIFIED:20210909T231520Z
UID:1101-1629223200-1629230400@arapahoehighlands.com
SUMMARY:Bob Stephens Memorial BBQ
DESCRIPTION:August AHCA Meeting\n						And Annual Bob Stephens Memorial BBQ\n						\n						\n					\n				\n					\n				\n				\n				\n			\n				\n				\n			\n				\n				\n				\n				\n				\n				\n				\n				\n				\n				\n				\n				\n				\n				\n				\n				\n				\n				Join us on Tuesday\, August 17 for an AHCA meeting and our annual Bob Stephens Memorial BBQ. We are looking forward to seeing our neighbors at the first in-person meeting we’ve had in quite some time\, and we have much to discuss. \n			\n			\n				\n				\n				\n				\n			\n				\n				\n				\n				\n				\n				\n				\n				\n				\n				\n				\n			\n			\n				\n				\n				\n				\n				\n				\n				\n				\n				\n				\n			\n			\n				\n				\n				\n				\n				\n				\n				\n				\n				\n				\n			\n			\n				\n				\n				\n				\n			\n				\n				\n				\n				\n				\n				\n				\n				\n				\n				\n				Important Details:\nThe meeting and BBQ will begin at 6pm in the Gilpin Court cul de sac. Hot dogs\, condiments\, and beverages will be provided. Bring your own side dish to pass and share\, and bring your own lawn chair! Get comfortable\, enjoy the food\, and catch up with your neighbors! Please comment below to let us know if you plan to attend the meeting\, as well as what dish you plan to bring to the BBQ. \n			\n			\n				\n				\n				\n				\n			\n				\n				\n			\n				\n				\n				\n				\n				\n				\n				\n				\n				\n				\n				\n				\n				\n				\n				\n				\n				\n				\n			\n				\n					\n				\n				\n				\n					\n						\n						\n							Recap Our Last MeetingWant a quick reminder of the talking points from our last AHCA meeting? We’ve got you covered. \n							Read the Minutes
URL:https://arapahoehighlands.com/events/bob-stephens-memorial-bbq-2021/
LOCATION:Gilpin Court cul-de-sac
CATEGORIES:Meetings
END:VEVENT
BEGIN:VEVENT
DTSTART;TZID=America/Denver:20210713T190000
DTEND;TZID=America/Denver:20210713T190000
DTSTAMP:20260423T124214
CREATED:20210710T020453Z
LAST-MODIFIED:20210710T020733Z
UID:1092-1626202800-1626202800@arapahoehighlands.com
SUMMARY:July 2021 AHCA Meeting
DESCRIPTION:Virtual Meeting\n						\n						\n						\n					\n				\n					\n				\n				\n				\n			\n				\n				\n			\n				\n				\n				\n				\n				\n				\n				\n				\n				\n				\n				\n				\n				\n				\n				\n				\n				\n				\n					\n					\n						Virtual Meeting\n						\n					\n				\n			\n			\n				\n				\n				\n				\n				\n				\n				\n				\n				\n				To join the meeting from your PC\, Mac\, Linux\, iOS or Android device\, click the button below: \n			\n				Join Meeting\n			\n				\n				\n				\n				\n				Note: For the best audio experience\, please use computer audio. \nDial-In: +1 (720) 902-7700 Meeting ID: 146 098 9537
URL:https://arapahoehighlands.com/events/july-2021-meeting/
LOCATION:Virtual
CATEGORIES:Meetings
END:VEVENT
BEGIN:VEVENT
DTSTART;TZID=America/Denver:20210413T190000
DTEND;TZID=America/Denver:20210413T200000
DTSTAMP:20260423T124214
CREATED:20210317T014536Z
LAST-MODIFIED:20210412T000725Z
UID:713-1618340400-1618344000@arapahoehighlands.com
SUMMARY:April 2021 Meeting
DESCRIPTION:Virtual Meeting\n						\n						\n						\n					\n				\n					\n				\n				\n				\n			\n				\n				\n			\n				\n				\n				\n				\n				\n				\n				\n				\n				\n				\n				\n				\n				\n				\n				\n				\n				\n				\n					\n					\n						Virtual Meeting\n						\n					\n				\n			\n			\n				\n				\n				\n				\n				\n				\n				\n				\n				\n				To join the meeting from your PC\, Mac\, Linux\, iOS or Android device\, click the button below: \n			\n				Join Meeting\n			\n				\n				\n				\n				\n				Note: For the best audio experience\, please use computer audio.
URL:https://arapahoehighlands.com/events/april-2021-meeting/
LOCATION:Virtual
CATEGORIES:Meetings
ATTACH;FMTTYPE=image/jpeg:https://arapahoehighlands.com/wp-content/uploads/2021/02/AHCA-full-logo-featured-image.jpg
END:VEVENT
BEGIN:VEVENT
DTSTART;TZID=America/Denver:20210316T180000
DTEND;TZID=America/Denver:20210316T190000
DTSTAMP:20260423T124214
CREATED:20210227T202200Z
LAST-MODIFIED:20210313T181759Z
UID:586-1615917600-1615921200@arapahoehighlands.com
SUMMARY:AHCA Meeting
DESCRIPTION:Virtual Meeting\n						\n						\n						\n					\n				\n					\n				\n				\n				\n			\n				\n				\n			\n				\n				\n				\n				\n				\n				\n				\n				\n				\n				\n				\n				\n				\n				\n				\n				\n				\n				\n					\n					\n						Virtual Meeting via RingCentral\n						\n					\n				\n			\n			\n				\n				\n				\n				\n				\n				\n				\n				\n				\n				To join the meeting from your PC\, Mac\, Linux\, iOS or Android device\, click the button below: \n			\n				Join Meeting\n			\n				\n				\n				\n				\n				Note: For the best audio experience\, please use computer audio.
URL:https://arapahoehighlands.com/events/ahca-meeting-march-2021/
LOCATION:Virtual
CATEGORIES:Meetings
END:VEVENT
END:VCALENDAR