BEGIN:VCALENDAR
VERSION:2.0
PRODID:-//Arapahoe Highlands - ECPv6.15.20//NONSGML v1.0//EN
CALSCALE:GREGORIAN
METHOD:PUBLISH
X-ORIGINAL-URL:https://arapahoehighlands.com
X-WR-CALDESC:Events for Arapahoe Highlands
REFRESH-INTERVAL;VALUE=DURATION:PT1H
X-Robots-Tag:noindex
X-PUBLISHED-TTL:PT1H
BEGIN:VTIMEZONE
TZID:America/Denver
BEGIN:DAYLIGHT
TZOFFSETFROM:-0700
TZOFFSETTO:-0600
TZNAME:MDT
DTSTART:20200308T090000
END:DAYLIGHT
BEGIN:STANDARD
TZOFFSETFROM:-0600
TZOFFSETTO:-0700
TZNAME:MST
DTSTART:20201101T080000
END:STANDARD
BEGIN:DAYLIGHT
TZOFFSETFROM:-0700
TZOFFSETTO:-0600
TZNAME:MDT
DTSTART:20210314T090000
END:DAYLIGHT
BEGIN:STANDARD
TZOFFSETFROM:-0600
TZOFFSETTO:-0700
TZNAME:MST
DTSTART:20211107T080000
END:STANDARD
BEGIN:DAYLIGHT
TZOFFSETFROM:-0700
TZOFFSETTO:-0600
TZNAME:MDT
DTSTART:20220313T090000
END:DAYLIGHT
BEGIN:STANDARD
TZOFFSETFROM:-0600
TZOFFSETTO:-0700
TZNAME:MST
DTSTART:20221106T080000
END:STANDARD
BEGIN:DAYLIGHT
TZOFFSETFROM:-0700
TZOFFSETTO:-0600
TZNAME:MDT
DTSTART:20230312T090000
END:DAYLIGHT
BEGIN:STANDARD
TZOFFSETFROM:-0600
TZOFFSETTO:-0700
TZNAME:MST
DTSTART:20231105T080000
END:STANDARD
END:VTIMEZONE
BEGIN:VEVENT
DTSTART;TZID=America/Denver:20220315T190000
DTEND;TZID=America/Denver:20220315T200000
DTSTAMP:20260423T140958
CREATED:20220124T215551Z
LAST-MODIFIED:20220309T181739Z
UID:1395-1647370800-1647374400@arapahoehighlands.com
SUMMARY:March 2022 Meeting
DESCRIPTION:Neighborhood Meeting\n						\n						\n						\n					\n				\n					\n				\n				\n				\n			\n				\n				\n			\n				\n				\n				\n				\n				\n				\n				\n				\n				\n				\n				\n				\n				\n				\n				\n				\n				\n				\n					\n					\n						In-Person Meeting\n						\n					\n				\n			\n			\n				\n				\n				\n				\n				\n				\n				\n				\n				\n				 Please join us for a neighborhood meeting to discuss our upcoming events! This meeting will be hosted at the home of Hank and Reneen Salmans. We look forward to seeing our neighbors at our first in-person meeting in quite some time! \nWhen: Tuesday\, March 15 at 7:00 p.m.Where: 1697 E Jamison Place
URL:https://arapahoehighlands.com/events/march-2022/
LOCATION:Hank and Reneen Salmans’ House\, 1697 E Jamison Pl\, CO
CATEGORIES:Meetings
END:VEVENT
BEGIN:VEVENT
DTSTART;TZID=America/Denver:20220118T190000
DTEND;TZID=America/Denver:20220118T200000
DTSTAMP:20260423T140958
CREATED:20211213T034549Z
LAST-MODIFIED:20220115T025029Z
UID:1341-1642532400-1642536000@arapahoehighlands.com
SUMMARY:January 2022 Meeting and Elections
DESCRIPTION:Neighborhood Meeting\n						\n						\n						\n					\n				\n					\n				\n				\n				\n			\n				\n				\n			\n				\n				\n				\n				\n				\n				\n				\n				\n				\n				\n				\n				\n				\n				\n				\n				\n				\n				\n					\n					\n						Virtual Meeting\n						\n					\n				\n			\n			\n				\n				\n				\n				\n				\n				\n				\n				\n				\n				Please join us for a neighborhood meeting and our annual election. We have many positions to fill! Available Board positions include chairperson\, vice chairperson\, and secretary. If you are interested in joining the Board or would like more information about AHCA\, please send an email to ahca.web@gmail.com. \nWhen: Tuesday\, January 18 at 7:00 p.m.Where: Online via Zoom \n			\n				Click Here to Join the Zoom Meeting\n			\n				\n				\n				\n				\n				Meeting ID: 894 8618 4151Passcode: 841231 \n			\n			\n				\n				\n				\n				\n			\n				\n				\n				\n				\n				\n				\n				\n				\n				\n				\n				Board Election FAQs\nWhat does the AHCA Board do?\nThe Board meets every other month\, usually on the third Tuesday of the month\, to discuss local and neighborhood news\, address members’ concerns\, and plan social events. \nHow much time is involved?\nBoard members are expected to attend the AHCA bi-monthly meetings\, which usually last about an hour. There are also a few social events each year that Board members typically plan and attend. \nWhat does the Architectural Control Committee (ACC) do?\nThe ACC helps neighbors understand the requirements of our neighborhood covenants. Common examples are roofing\, painting\, and construction. It is a 3-person committee that does not have regular meetings; rather the ACC meets when needed\, most often when an official request is received.
URL:https://arapahoehighlands.com/events/january-2022-meeting-and-elections/
CATEGORIES:Meetings
END:VEVENT
BEGIN:VEVENT
DTSTART;TZID=America/Denver:20211214T190000
DTEND;TZID=America/Denver:20211214T200000
DTSTAMP:20260423T140958
CREATED:20211213T033622Z
LAST-MODIFIED:20211214T212500Z
UID:1328-1639508400-1639512000@arapahoehighlands.com
SUMMARY:December 2021 Meeting
DESCRIPTION:Neighborhood Meeting\n						\n						\n						\n					\n				\n					\n				\n				\n				\n			\n				\n				\n			\n				\n				\n				\n				\n				\n				\n				\n				\n				\n				\n				\n				\n				\n				\n				\n				\n				\n				\n					\n					\n						Virtual Meeting\n						\n					\n				\n			\n				Click Here to Join Meeting\n			\n			\n				\n				\n				\n				\n				\n				\n				\n				\n				\n				This month we are continuing our use of Zoom for virtual meetings. We have much to discuss\, including upcoming holiday festivities and elections. \nWhen: Tuesday\, December 14 at 7:00 p.m. \nMeeting ID: 827 0261 6149Passcode: ahca121421 \n			\n			\n				\n				\n				\n				\n			\n				\n				\n				\n				\n				\n				\n				\n				\n				\n				\n				Board Election FAQs\nWhat does the AHCA Board do?\nThe Board meets every other month\, usually on the third Tuesday of the month\, to discuss local and neighborhood news\, address members’ concerns\, and plan social events. \nHow much time is involved?\nBoard members are expected to attend the AHCA bi-monthly meetings\, which usually last about an hour. There are also a few social events each year that Board members typically plan and attend. \nWhat does the Architectural Control Committee (ACC) do?\nThe ACC helps neighbors understand the requirements of our neighborhood covenants. Common examples are roofing\, painting\, and construction. It is a 3-person committee that does not have regular meetings; rather the ACC meets when needed\, most often when an official request is received.
URL:https://arapahoehighlands.com/events/december-2021-meeting/
LOCATION:Virtual
CATEGORIES:Meetings
END:VEVENT
BEGIN:VEVENT
DTSTART;TZID=America/Denver:20211109T190000
DTEND;TZID=America/Denver:20211109T190000
DTSTAMP:20260423T140958
CREATED:20211103T203833Z
LAST-MODIFIED:20211103T204306Z
UID:1215-1636484400-1636484400@arapahoehighlands.com
SUMMARY:November 2021 AHCA Meeting
DESCRIPTION:Virtual Meeting\n						\n						\n						\n					\n				\n					\n				\n				\n				\n			\n				\n				\n			\n				\n				\n				\n				\n				\n				\n				\n				\n				\n				\n				\n				\n				\n				\n				\n				\n				\n				\n					\n					\n						Virtual Meeting\n						\n					\n				\n			\n			\n				\n				\n				\n				\n				\n				\n				\n				\n				\n				To join the meeting from your PC\, Mac\, Linux\, iOS or Android device\, click the button below: \n			\n				Join Meeting\n			\n				\n				\n				\n				\n				Note: For the best audio experience\, please use computer audio. \nMeeting ID: 863 8471 7657\nPasscode: SpUxZ0
URL:https://arapahoehighlands.com/events/november-2021-ahca-meeting/
LOCATION:Virtual
CATEGORIES:Meetings
END:VEVENT
BEGIN:VEVENT
DTSTART;TZID=America/Denver:20210817T180000
DTEND;TZID=America/Denver:20210817T200000
DTSTAMP:20260423T140958
CREATED:20210809T203632Z
LAST-MODIFIED:20210909T231520Z
UID:1101-1629223200-1629230400@arapahoehighlands.com
SUMMARY:Bob Stephens Memorial BBQ
DESCRIPTION:August AHCA Meeting\n						And Annual Bob Stephens Memorial BBQ\n						\n						\n					\n				\n					\n				\n				\n				\n			\n				\n				\n			\n				\n				\n				\n				\n				\n				\n				\n				\n				\n				\n				\n				\n				\n				\n				\n				\n				\n				Join us on Tuesday\, August 17 for an AHCA meeting and our annual Bob Stephens Memorial BBQ. We are looking forward to seeing our neighbors at the first in-person meeting we’ve had in quite some time\, and we have much to discuss. \n			\n			\n				\n				\n				\n				\n			\n				\n				\n				\n				\n				\n				\n				\n				\n				\n				\n				\n			\n			\n				\n				\n				\n				\n				\n				\n				\n				\n				\n				\n			\n			\n				\n				\n				\n				\n				\n				\n				\n				\n				\n				\n			\n			\n				\n				\n				\n				\n			\n				\n				\n				\n				\n				\n				\n				\n				\n				\n				\n				Important Details:\nThe meeting and BBQ will begin at 6pm in the Gilpin Court cul de sac. Hot dogs\, condiments\, and beverages will be provided. Bring your own side dish to pass and share\, and bring your own lawn chair! Get comfortable\, enjoy the food\, and catch up with your neighbors! Please comment below to let us know if you plan to attend the meeting\, as well as what dish you plan to bring to the BBQ. \n			\n			\n				\n				\n				\n				\n			\n				\n				\n			\n				\n				\n				\n				\n				\n				\n				\n				\n				\n				\n				\n				\n				\n				\n				\n				\n				\n				\n			\n				\n					\n				\n				\n				\n					\n						\n						\n							Recap Our Last MeetingWant a quick reminder of the talking points from our last AHCA meeting? We’ve got you covered. \n							Read the Minutes
URL:https://arapahoehighlands.com/events/bob-stephens-memorial-bbq-2021/
LOCATION:Gilpin Court cul-de-sac
CATEGORIES:Meetings
END:VEVENT
BEGIN:VEVENT
DTSTART;TZID=America/Denver:20210713T190000
DTEND;TZID=America/Denver:20210713T190000
DTSTAMP:20260423T140958
CREATED:20210710T020453Z
LAST-MODIFIED:20210710T020733Z
UID:1092-1626202800-1626202800@arapahoehighlands.com
SUMMARY:July 2021 AHCA Meeting
DESCRIPTION:Virtual Meeting\n						\n						\n						\n					\n				\n					\n				\n				\n				\n			\n				\n				\n			\n				\n				\n				\n				\n				\n				\n				\n				\n				\n				\n				\n				\n				\n				\n				\n				\n				\n				\n					\n					\n						Virtual Meeting\n						\n					\n				\n			\n			\n				\n				\n				\n				\n				\n				\n				\n				\n				\n				To join the meeting from your PC\, Mac\, Linux\, iOS or Android device\, click the button below: \n			\n				Join Meeting\n			\n				\n				\n				\n				\n				Note: For the best audio experience\, please use computer audio. \nDial-In: +1 (720) 902-7700 Meeting ID: 146 098 9537
URL:https://arapahoehighlands.com/events/july-2021-meeting/
LOCATION:Virtual
CATEGORIES:Meetings
END:VEVENT
BEGIN:VEVENT
DTSTART;TZID=America/Denver:20210413T190000
DTEND;TZID=America/Denver:20210413T200000
DTSTAMP:20260423T140958
CREATED:20210317T014536Z
LAST-MODIFIED:20210412T000725Z
UID:713-1618340400-1618344000@arapahoehighlands.com
SUMMARY:April 2021 Meeting
DESCRIPTION:Virtual Meeting\n						\n						\n						\n					\n				\n					\n				\n				\n				\n			\n				\n				\n			\n				\n				\n				\n				\n				\n				\n				\n				\n				\n				\n				\n				\n				\n				\n				\n				\n				\n				\n					\n					\n						Virtual Meeting\n						\n					\n				\n			\n			\n				\n				\n				\n				\n				\n				\n				\n				\n				\n				To join the meeting from your PC\, Mac\, Linux\, iOS or Android device\, click the button below: \n			\n				Join Meeting\n			\n				\n				\n				\n				\n				Note: For the best audio experience\, please use computer audio.
URL:https://arapahoehighlands.com/events/april-2021-meeting/
LOCATION:Virtual
CATEGORIES:Meetings
ATTACH;FMTTYPE=image/jpeg:https://arapahoehighlands.com/wp-content/uploads/2021/02/AHCA-full-logo-featured-image.jpg
END:VEVENT
BEGIN:VEVENT
DTSTART;TZID=America/Denver:20210316T180000
DTEND;TZID=America/Denver:20210316T190000
DTSTAMP:20260423T140958
CREATED:20210227T202200Z
LAST-MODIFIED:20210313T181759Z
UID:586-1615917600-1615921200@arapahoehighlands.com
SUMMARY:AHCA Meeting
DESCRIPTION:Virtual Meeting\n						\n						\n						\n					\n				\n					\n				\n				\n				\n			\n				\n				\n			\n				\n				\n				\n				\n				\n				\n				\n				\n				\n				\n				\n				\n				\n				\n				\n				\n				\n				\n					\n					\n						Virtual Meeting via RingCentral\n						\n					\n				\n			\n			\n				\n				\n				\n				\n				\n				\n				\n				\n				\n				To join the meeting from your PC\, Mac\, Linux\, iOS or Android device\, click the button below: \n			\n				Join Meeting\n			\n				\n				\n				\n				\n				Note: For the best audio experience\, please use computer audio.
URL:https://arapahoehighlands.com/events/ahca-meeting-march-2021/
LOCATION:Virtual
CATEGORIES:Meetings
END:VEVENT
END:VCALENDAR